BEGIN:VCALENDAR
VERSION:2.0
PRODID:-//First Baptist Church of Bermuda - ECPv6.15.20//NONSGML v1.0//EN
CALSCALE:GREGORIAN
METHOD:PUBLISH
X-WR-CALNAME:First Baptist Church of Bermuda
X-ORIGINAL-URL:https://firstbaptistbermuda.com
X-WR-CALDESC:Events for First Baptist Church of Bermuda
REFRESH-INTERVAL;VALUE=DURATION:PT1H
X-Robots-Tag:noindex
X-PUBLISHED-TTL:PT1H
BEGIN:VTIMEZONE
TZID:Atlantic/Bermuda
BEGIN:DAYLIGHT
TZOFFSETFROM:-0400
TZOFFSETTO:-0300
TZNAME:ADT
DTSTART:20240310T060000
END:DAYLIGHT
BEGIN:STANDARD
TZOFFSETFROM:-0300
TZOFFSETTO:-0400
TZNAME:AST
DTSTART:20241103T050000
END:STANDARD
BEGIN:DAYLIGHT
TZOFFSETFROM:-0400
TZOFFSETTO:-0300
TZNAME:ADT
DTSTART:20250309T060000
END:DAYLIGHT
BEGIN:STANDARD
TZOFFSETFROM:-0300
TZOFFSETTO:-0400
TZNAME:AST
DTSTART:20251102T050000
END:STANDARD
BEGIN:DAYLIGHT
TZOFFSETFROM:-0400
TZOFFSETTO:-0300
TZNAME:ADT
DTSTART:20260308T060000
END:DAYLIGHT
BEGIN:STANDARD
TZOFFSETFROM:-0300
TZOFFSETTO:-0400
TZNAME:AST
DTSTART:20261101T050000
END:STANDARD
END:VTIMEZONE
BEGIN:VEVENT
DTSTART;TZID=Atlantic/Bermuda:20251203T140000
DTEND;TZID=Atlantic/Bermuda:20251203T160000
DTSTAMP:20260423T212215
CREATED:20250518T184100Z
LAST-MODIFIED:20250518T184100Z
UID:7030-1764770400-1764777600@firstbaptistbermuda.com
SUMMARY:5:2 Outreach Meal
DESCRIPTION:
URL:https://firstbaptistbermuda.com/event/52-kitchen-meals-service-2025-12-03/
CATEGORIES:Weekly
END:VEVENT
BEGIN:VEVENT
DTSTART;TZID=Atlantic/Bermuda:20251210T140000
DTEND;TZID=Atlantic/Bermuda:20251210T160000
DTSTAMP:20260423T212215
CREATED:20250518T184100Z
LAST-MODIFIED:20250518T184100Z
UID:7031-1765375200-1765382400@firstbaptistbermuda.com
SUMMARY:5:2 Outreach Meal
DESCRIPTION:
URL:https://firstbaptistbermuda.com/event/52-kitchen-meals-service-2025-12-10/
CATEGORIES:Weekly
END:VEVENT
BEGIN:VEVENT
DTSTART;TZID=Atlantic/Bermuda:20251217T140000
DTEND;TZID=Atlantic/Bermuda:20251217T160000
DTSTAMP:20260423T212215
CREATED:20250518T184100Z
LAST-MODIFIED:20250518T184100Z
UID:7032-1765980000-1765987200@firstbaptistbermuda.com
SUMMARY:5:2 Outreach Meal
DESCRIPTION:
URL:https://firstbaptistbermuda.com/event/52-kitchen-meals-service-2025-12-17/
CATEGORIES:Weekly
END:VEVENT
BEGIN:VEVENT
DTSTART;TZID=Atlantic/Bermuda:20251224T140000
DTEND;TZID=Atlantic/Bermuda:20251224T160000
DTSTAMP:20260423T212215
CREATED:20250518T184100Z
LAST-MODIFIED:20250518T184100Z
UID:7033-1766584800-1766592000@firstbaptistbermuda.com
SUMMARY:5:2 Outreach Meal
DESCRIPTION:
URL:https://firstbaptistbermuda.com/event/52-kitchen-meals-service-2025-12-24/
CATEGORIES:Weekly
END:VEVENT
BEGIN:VEVENT
DTSTART;TZID=Atlantic/Bermuda:20251224T183000
DTEND;TZID=Atlantic/Bermuda:20251224T190000
DTSTAMP:20260423T212215
CREATED:20250518T185018Z
LAST-MODIFIED:20250518T185022Z
UID:6929-1766601000-1766602800@firstbaptistbermuda.com
SUMMARY:Christmas Eve Service
DESCRIPTION:
URL:https://firstbaptistbermuda.com/event/christmas-eve-service/
CATEGORIES:Winter
END:VEVENT
BEGIN:VEVENT
DTSTART;TZID=Atlantic/Bermuda:20251231T140000
DTEND;TZID=Atlantic/Bermuda:20251231T160000
DTSTAMP:20260423T212215
CREATED:20250518T184100Z
LAST-MODIFIED:20250518T184100Z
UID:7034-1767189600-1767196800@firstbaptistbermuda.com
SUMMARY:5:2 Outreach Meal
DESCRIPTION:
URL:https://firstbaptistbermuda.com/event/52-kitchen-meals-service-2025-12-31/
CATEGORIES:Weekly
END:VEVENT
END:VCALENDAR