BEGIN:VCALENDAR
VERSION:2.0
PRODID:-//First Baptist Church of Bermuda - ECPv6.15.20//NONSGML v1.0//EN
CALSCALE:GREGORIAN
METHOD:PUBLISH
X-ORIGINAL-URL:https://firstbaptistbermuda.com
X-WR-CALDESC:Events for First Baptist Church of Bermuda
REFRESH-INTERVAL;VALUE=DURATION:PT1H
X-Robots-Tag:noindex
X-PUBLISHED-TTL:PT1H
BEGIN:VTIMEZONE
TZID:Atlantic/Bermuda
BEGIN:DAYLIGHT
TZOFFSETFROM:-0400
TZOFFSETTO:-0300
TZNAME:ADT
DTSTART:20240310T060000
END:DAYLIGHT
BEGIN:STANDARD
TZOFFSETFROM:-0300
TZOFFSETTO:-0400
TZNAME:AST
DTSTART:20241103T050000
END:STANDARD
BEGIN:DAYLIGHT
TZOFFSETFROM:-0400
TZOFFSETTO:-0300
TZNAME:ADT
DTSTART:20250309T060000
END:DAYLIGHT
BEGIN:STANDARD
TZOFFSETFROM:-0300
TZOFFSETTO:-0400
TZNAME:AST
DTSTART:20251102T050000
END:STANDARD
BEGIN:DAYLIGHT
TZOFFSETFROM:-0400
TZOFFSETTO:-0300
TZNAME:ADT
DTSTART:20260308T060000
END:DAYLIGHT
BEGIN:STANDARD
TZOFFSETFROM:-0300
TZOFFSETTO:-0400
TZNAME:AST
DTSTART:20261101T050000
END:STANDARD
END:VTIMEZONE
BEGIN:VEVENT
DTSTART;TZID=Atlantic/Bermuda:20251001T140000
DTEND;TZID=Atlantic/Bermuda:20251001T160000
DTSTAMP:20260424T004741
CREATED:20250518T184100Z
LAST-MODIFIED:20250518T184100Z
UID:7021-1759327200-1759334400@firstbaptistbermuda.com
SUMMARY:5:2 Outreach Meal
DESCRIPTION:
URL:https://firstbaptistbermuda.com/event/52-kitchen-meals-service-2025-10-01/
CATEGORIES:Weekly
END:VEVENT
BEGIN:VEVENT
DTSTART;TZID=Atlantic/Bermuda:20251008T140000
DTEND;TZID=Atlantic/Bermuda:20251008T160000
DTSTAMP:20260424T004741
CREATED:20250518T184100Z
LAST-MODIFIED:20250518T184100Z
UID:7022-1759932000-1759939200@firstbaptistbermuda.com
SUMMARY:5:2 Outreach Meal
DESCRIPTION:
URL:https://firstbaptistbermuda.com/event/52-kitchen-meals-service-2025-10-08/
CATEGORIES:Weekly
END:VEVENT
BEGIN:VEVENT
DTSTART;TZID=Atlantic/Bermuda:20251015T140000
DTEND;TZID=Atlantic/Bermuda:20251015T160000
DTSTAMP:20260424T004741
CREATED:20250518T184100Z
LAST-MODIFIED:20250518T184100Z
UID:7023-1760536800-1760544000@firstbaptistbermuda.com
SUMMARY:5:2 Outreach Meal
DESCRIPTION:
URL:https://firstbaptistbermuda.com/event/52-kitchen-meals-service-2025-10-15/
CATEGORIES:Weekly
END:VEVENT
BEGIN:VEVENT
DTSTART;TZID=Atlantic/Bermuda:20251022T140000
DTEND;TZID=Atlantic/Bermuda:20251022T160000
DTSTAMP:20260424T004741
CREATED:20250518T184100Z
LAST-MODIFIED:20250518T184100Z
UID:7024-1761141600-1761148800@firstbaptistbermuda.com
SUMMARY:5:2 Outreach Meal
DESCRIPTION:
URL:https://firstbaptistbermuda.com/event/52-kitchen-meals-service-2025-10-22/
CATEGORIES:Weekly
END:VEVENT
BEGIN:VEVENT
DTSTART;TZID=Atlantic/Bermuda:20251029T140000
DTEND;TZID=Atlantic/Bermuda:20251029T160000
DTSTAMP:20260424T004741
CREATED:20250518T184100Z
LAST-MODIFIED:20250518T184100Z
UID:7025-1761746400-1761753600@firstbaptistbermuda.com
SUMMARY:5:2 Outreach Meal
DESCRIPTION:
URL:https://firstbaptistbermuda.com/event/52-kitchen-meals-service-2025-10-29/
CATEGORIES:Weekly
END:VEVENT
END:VCALENDAR