BEGIN:VCALENDAR
VERSION:2.0
PRODID:-//First Baptist Church of Bermuda - ECPv6.15.20//NONSGML v1.0//EN
CALSCALE:GREGORIAN
METHOD:PUBLISH
X-WR-CALNAME:First Baptist Church of Bermuda
X-ORIGINAL-URL:https://firstbaptistbermuda.com
X-WR-CALDESC:Events for First Baptist Church of Bermuda
REFRESH-INTERVAL;VALUE=DURATION:PT1H
X-Robots-Tag:noindex
X-PUBLISHED-TTL:PT1H
BEGIN:VTIMEZONE
TZID:Atlantic/Bermuda
BEGIN:DAYLIGHT
TZOFFSETFROM:-0400
TZOFFSETTO:-0300
TZNAME:ADT
DTSTART:20260308T060000
END:DAYLIGHT
BEGIN:STANDARD
TZOFFSETFROM:-0300
TZOFFSETTO:-0400
TZNAME:AST
DTSTART:20261101T050000
END:STANDARD
BEGIN:DAYLIGHT
TZOFFSETFROM:-0400
TZOFFSETTO:-0300
TZNAME:ADT
DTSTART:20270314T060000
END:DAYLIGHT
BEGIN:STANDARD
TZOFFSETFROM:-0300
TZOFFSETTO:-0400
TZNAME:AST
DTSTART:20271107T050000
END:STANDARD
BEGIN:DAYLIGHT
TZOFFSETFROM:-0400
TZOFFSETTO:-0300
TZNAME:ADT
DTSTART:20280312T060000
END:DAYLIGHT
BEGIN:STANDARD
TZOFFSETFROM:-0300
TZOFFSETTO:-0400
TZNAME:AST
DTSTART:20281105T050000
END:STANDARD
END:VTIMEZONE
BEGIN:VEVENT
DTSTART;TZID=Atlantic/Bermuda:20270602T140000
DTEND;TZID=Atlantic/Bermuda:20270602T160000
DTSTAMP:20260423T211922
CREATED:20250518T184100Z
LAST-MODIFIED:20250518T184100Z
UID:7040-1811944800-1811952000@firstbaptistbermuda.com
SUMMARY:5:2 Outreach Meal
DESCRIPTION:
URL:https://firstbaptistbermuda.com/event/52-kitchen-meals-service-2027-06-02/
CATEGORIES:Weekly
END:VEVENT
BEGIN:VEVENT
DTSTART;TZID=Atlantic/Bermuda:20270609T140000
DTEND;TZID=Atlantic/Bermuda:20270609T160000
DTSTAMP:20260423T211922
CREATED:20250518T184100Z
LAST-MODIFIED:20250518T184100Z
UID:7072-1812549600-1812556800@firstbaptistbermuda.com
SUMMARY:5:2 Outreach Meal
DESCRIPTION:
URL:https://firstbaptistbermuda.com/event/52-kitchen-meals-service-2027-06-09/
CATEGORIES:Weekly
END:VEVENT
BEGIN:VEVENT
DTSTART;TZID=Atlantic/Bermuda:20270616T140000
DTEND;TZID=Atlantic/Bermuda:20270616T160000
DTSTAMP:20260423T211922
CREATED:20250518T184100Z
LAST-MODIFIED:20250518T184100Z
UID:7073-1813154400-1813161600@firstbaptistbermuda.com
SUMMARY:5:2 Outreach Meal
DESCRIPTION:
URL:https://firstbaptistbermuda.com/event/52-kitchen-meals-service-2027-06-16/
CATEGORIES:Weekly
END:VEVENT
BEGIN:VEVENT
DTSTART;TZID=Atlantic/Bermuda:20270623T140000
DTEND;TZID=Atlantic/Bermuda:20270623T160000
DTSTAMP:20260423T211922
CREATED:20250518T184100Z
LAST-MODIFIED:20250518T184100Z
UID:7074-1813759200-1813766400@firstbaptistbermuda.com
SUMMARY:5:2 Outreach Meal
DESCRIPTION:
URL:https://firstbaptistbermuda.com/event/52-kitchen-meals-service-2027-06-23/
CATEGORIES:Weekly
END:VEVENT
BEGIN:VEVENT
DTSTART;TZID=Atlantic/Bermuda:20270630T140000
DTEND;TZID=Atlantic/Bermuda:20270630T160000
DTSTAMP:20260423T211922
CREATED:20250518T184100Z
LAST-MODIFIED:20250518T184100Z
UID:7075-1814364000-1814371200@firstbaptistbermuda.com
SUMMARY:5:2 Outreach Meal
DESCRIPTION:
URL:https://firstbaptistbermuda.com/event/52-kitchen-meals-service-2027-06-30/
CATEGORIES:Weekly
END:VEVENT
BEGIN:VEVENT
DTSTART;TZID=Atlantic/Bermuda:20270707T140000
DTEND;TZID=Atlantic/Bermuda:20270707T160000
DTSTAMP:20260423T211922
CREATED:20250518T184100Z
LAST-MODIFIED:20250518T184100Z
UID:7076-1814968800-1814976000@firstbaptistbermuda.com
SUMMARY:5:2 Outreach Meal
DESCRIPTION:
URL:https://firstbaptistbermuda.com/event/52-kitchen-meals-service-2027-07-07/
CATEGORIES:Weekly
END:VEVENT
BEGIN:VEVENT
DTSTART;TZID=Atlantic/Bermuda:20270714T140000
DTEND;TZID=Atlantic/Bermuda:20270714T160000
DTSTAMP:20260423T211922
CREATED:20250518T184100Z
LAST-MODIFIED:20250518T184100Z
UID:7077-1815573600-1815580800@firstbaptistbermuda.com
SUMMARY:5:2 Outreach Meal
DESCRIPTION:
URL:https://firstbaptistbermuda.com/event/52-kitchen-meals-service-2027-07-14/
CATEGORIES:Weekly
END:VEVENT
BEGIN:VEVENT
DTSTART;TZID=Atlantic/Bermuda:20270721T140000
DTEND;TZID=Atlantic/Bermuda:20270721T160000
DTSTAMP:20260423T211922
CREATED:20250518T184100Z
LAST-MODIFIED:20250518T184100Z
UID:7078-1816178400-1816185600@firstbaptistbermuda.com
SUMMARY:5:2 Outreach Meal
DESCRIPTION:
URL:https://firstbaptistbermuda.com/event/52-kitchen-meals-service-2027-07-21/
CATEGORIES:Weekly
END:VEVENT
BEGIN:VEVENT
DTSTART;TZID=Atlantic/Bermuda:20270728T140000
DTEND;TZID=Atlantic/Bermuda:20270728T160000
DTSTAMP:20260423T211922
CREATED:20250518T184100Z
LAST-MODIFIED:20250518T184100Z
UID:7079-1816783200-1816790400@firstbaptistbermuda.com
SUMMARY:5:2 Outreach Meal
DESCRIPTION:
URL:https://firstbaptistbermuda.com/event/52-kitchen-meals-service-2027-07-28/
CATEGORIES:Weekly
END:VEVENT
BEGIN:VEVENT
DTSTART;TZID=Atlantic/Bermuda:20270804T140000
DTEND;TZID=Atlantic/Bermuda:20270804T160000
DTSTAMP:20260423T211922
CREATED:20250518T184100Z
LAST-MODIFIED:20250518T184100Z
UID:7080-1817388000-1817395200@firstbaptistbermuda.com
SUMMARY:5:2 Outreach Meal
DESCRIPTION:
URL:https://firstbaptistbermuda.com/event/52-kitchen-meals-service-2027-08-04/
CATEGORIES:Weekly
END:VEVENT
BEGIN:VEVENT
DTSTART;TZID=Atlantic/Bermuda:20270811T140000
DTEND;TZID=Atlantic/Bermuda:20270811T160000
DTSTAMP:20260423T211922
CREATED:20250518T184100Z
LAST-MODIFIED:20250518T184100Z
UID:7081-1817992800-1818000000@firstbaptistbermuda.com
SUMMARY:5:2 Outreach Meal
DESCRIPTION:
URL:https://firstbaptistbermuda.com/event/52-kitchen-meals-service-2027-08-11/
CATEGORIES:Weekly
END:VEVENT
BEGIN:VEVENT
DTSTART;TZID=Atlantic/Bermuda:20270818T140000
DTEND;TZID=Atlantic/Bermuda:20270818T160000
DTSTAMP:20260423T211922
CREATED:20250518T184100Z
LAST-MODIFIED:20250518T184100Z
UID:7082-1818597600-1818604800@firstbaptistbermuda.com
SUMMARY:5:2 Outreach Meal
DESCRIPTION:
URL:https://firstbaptistbermuda.com/event/52-kitchen-meals-service-2027-08-18/
CATEGORIES:Weekly
END:VEVENT
BEGIN:VEVENT
DTSTART;TZID=Atlantic/Bermuda:20270825T140000
DTEND;TZID=Atlantic/Bermuda:20270825T160000
DTSTAMP:20260423T211922
CREATED:20250518T184100Z
LAST-MODIFIED:20250518T184100Z
UID:7083-1819202400-1819209600@firstbaptistbermuda.com
SUMMARY:5:2 Outreach Meal
DESCRIPTION:
URL:https://firstbaptistbermuda.com/event/52-kitchen-meals-service-2027-08-25/
CATEGORIES:Weekly
END:VEVENT
BEGIN:VEVENT
DTSTART;TZID=Atlantic/Bermuda:20270901T140000
DTEND;TZID=Atlantic/Bermuda:20270901T160000
DTSTAMP:20260423T211922
CREATED:20250518T184100Z
LAST-MODIFIED:20250518T184100Z
UID:7084-1819807200-1819814400@firstbaptistbermuda.com
SUMMARY:5:2 Outreach Meal
DESCRIPTION:
URL:https://firstbaptistbermuda.com/event/52-kitchen-meals-service-2027-09-01/
CATEGORIES:Weekly
END:VEVENT
BEGIN:VEVENT
DTSTART;TZID=Atlantic/Bermuda:20270908T140000
DTEND;TZID=Atlantic/Bermuda:20270908T160000
DTSTAMP:20260423T211922
CREATED:20250518T184100Z
LAST-MODIFIED:20250518T184100Z
UID:7085-1820412000-1820419200@firstbaptistbermuda.com
SUMMARY:5:2 Outreach Meal
DESCRIPTION:
URL:https://firstbaptistbermuda.com/event/52-kitchen-meals-service-2027-09-08/
CATEGORIES:Weekly
END:VEVENT
BEGIN:VEVENT
DTSTART;TZID=Atlantic/Bermuda:20270915T140000
DTEND;TZID=Atlantic/Bermuda:20270915T160000
DTSTAMP:20260423T211922
CREATED:20250518T184100Z
LAST-MODIFIED:20250518T184100Z
UID:7086-1821016800-1821024000@firstbaptistbermuda.com
SUMMARY:5:2 Outreach Meal
DESCRIPTION:
URL:https://firstbaptistbermuda.com/event/52-kitchen-meals-service-2027-09-15/
CATEGORIES:Weekly
END:VEVENT
BEGIN:VEVENT
DTSTART;TZID=Atlantic/Bermuda:20270922T140000
DTEND;TZID=Atlantic/Bermuda:20270922T160000
DTSTAMP:20260423T211922
CREATED:20250518T184100Z
LAST-MODIFIED:20250518T184100Z
UID:7087-1821621600-1821628800@firstbaptistbermuda.com
SUMMARY:5:2 Outreach Meal
DESCRIPTION:
URL:https://firstbaptistbermuda.com/event/52-kitchen-meals-service-2027-09-22/
CATEGORIES:Weekly
END:VEVENT
BEGIN:VEVENT
DTSTART;TZID=Atlantic/Bermuda:20270929T140000
DTEND;TZID=Atlantic/Bermuda:20270929T160000
DTSTAMP:20260423T211922
CREATED:20250518T184100Z
LAST-MODIFIED:20250518T184100Z
UID:7088-1822226400-1822233600@firstbaptistbermuda.com
SUMMARY:5:2 Outreach Meal
DESCRIPTION:
URL:https://firstbaptistbermuda.com/event/52-kitchen-meals-service-2027-09-29/
CATEGORIES:Weekly
END:VEVENT
END:VCALENDAR