BEGIN:VCALENDAR
VERSION:2.0
PRODID:-//First Baptist Church of Bermuda - ECPv6.15.20//NONSGML v1.0//EN
CALSCALE:GREGORIAN
METHOD:PUBLISH
X-WR-CALNAME:First Baptist Church of Bermuda
X-ORIGINAL-URL:https://firstbaptistbermuda.com
X-WR-CALDESC:Events for First Baptist Church of Bermuda
REFRESH-INTERVAL;VALUE=DURATION:PT1H
X-Robots-Tag:noindex
X-PUBLISHED-TTL:PT1H
BEGIN:VTIMEZONE
TZID:Atlantic/Bermuda
BEGIN:DAYLIGHT
TZOFFSETFROM:-0400
TZOFFSETTO:-0300
TZNAME:ADT
DTSTART:20240310T060000
END:DAYLIGHT
BEGIN:STANDARD
TZOFFSETFROM:-0300
TZOFFSETTO:-0400
TZNAME:AST
DTSTART:20241103T050000
END:STANDARD
BEGIN:DAYLIGHT
TZOFFSETFROM:-0400
TZOFFSETTO:-0300
TZNAME:ADT
DTSTART:20250309T060000
END:DAYLIGHT
BEGIN:STANDARD
TZOFFSETFROM:-0300
TZOFFSETTO:-0400
TZNAME:AST
DTSTART:20251102T050000
END:STANDARD
BEGIN:DAYLIGHT
TZOFFSETFROM:-0400
TZOFFSETTO:-0300
TZNAME:ADT
DTSTART:20260308T060000
END:DAYLIGHT
BEGIN:STANDARD
TZOFFSETFROM:-0300
TZOFFSETTO:-0400
TZNAME:AST
DTSTART:20261101T050000
END:STANDARD
END:VTIMEZONE
BEGIN:VEVENT
DTSTART;TZID=Atlantic/Bermuda:20250604T140000
DTEND;TZID=Atlantic/Bermuda:20250604T160000
DTSTAMP:20260424T112831
CREATED:20250518T184100Z
LAST-MODIFIED:20250530T130609Z
UID:6895-1749045600-1749052800@firstbaptistbermuda.com
SUMMARY:5:2 Outreach Meal
DESCRIPTION:
URL:https://firstbaptistbermuda.com/event/52-kitchen-meals-service-2025-06-04/
CATEGORIES:Weekly
END:VEVENT
BEGIN:VEVENT
DTSTART;TZID=Atlantic/Bermuda:20250608T183000
DTEND;TZID=Atlantic/Bermuda:20250608T190000
DTSTAMP:20260424T112831
CREATED:20250518T181829Z
LAST-MODIFIED:20250518T181829Z
UID:6852-1749407400-1749409200@firstbaptistbermuda.com
SUMMARY:Prayer Meeting
DESCRIPTION:
URL:https://firstbaptistbermuda.com/event/prayer-meeting-2025-06-08/
CATEGORIES:Weekly
END:VEVENT
BEGIN:VEVENT
DTSTART;TZID=Atlantic/Bermuda:20250610T093000
DTEND;TZID=Atlantic/Bermuda:20250610T110000
DTSTAMP:20260424T112831
CREATED:20250518T183604Z
LAST-MODIFIED:20250604T143704Z
UID:6863-1749547800-1749553200@firstbaptistbermuda.com
SUMMARY:Women's Bible Study
DESCRIPTION:Contact the church office to confirm title of study and length
URL:https://firstbaptistbermuda.com/event/womens-bible-study-2025-06-10/
END:VEVENT
BEGIN:VEVENT
DTSTART;TZID=Atlantic/Bermuda:20250610T190000
DTEND;TZID=Atlantic/Bermuda:20250610T203000
DTSTAMP:20260424T112831
CREATED:20250604T143328Z
LAST-MODIFIED:20250604T143957Z
UID:7048-1749582000-1749587400@firstbaptistbermuda.com
SUMMARY:Multiply YA for Young Adults
DESCRIPTION:
URL:https://firstbaptistbermuda.com/event/multiply-ya-for-young-adults/
CATEGORIES:Weekly
END:VEVENT
BEGIN:VEVENT
DTSTART;TZID=Atlantic/Bermuda:20250610T190000
DTEND;TZID=Atlantic/Bermuda:20250610T203000
DTSTAMP:20260424T112831
CREATED:20250518T183604Z
LAST-MODIFIED:20250604T143704Z
UID:6864-1749582000-1749587400@firstbaptistbermuda.com
SUMMARY:Women's Bible Study
DESCRIPTION:Contact the church office to confirm title of study and length
URL:https://firstbaptistbermuda.com/event/womens-bible-study-2025-06-10-2/
END:VEVENT
BEGIN:VEVENT
DTSTART;TZID=Atlantic/Bermuda:20250610T190000
DTEND;TZID=Atlantic/Bermuda:20250610T203000
DTSTAMP:20260424T112831
CREATED:20250518T183750Z
LAST-MODIFIED:20250518T183750Z
UID:6886-1749582000-1749587400@firstbaptistbermuda.com
SUMMARY:Men's Bible Studiy
DESCRIPTION:Contact the church office to confirm title of study and length
URL:https://firstbaptistbermuda.com/event/mens-bible-studiy-2025-06-10/
END:VEVENT
BEGIN:VEVENT
DTSTART;TZID=Atlantic/Bermuda:20250611T140000
DTEND;TZID=Atlantic/Bermuda:20250611T160000
DTSTAMP:20260424T112831
CREATED:20250518T184100Z
LAST-MODIFIED:20250530T130543Z
UID:6896-1749650400-1749657600@firstbaptistbermuda.com
SUMMARY:5:2 Outreach Meal
DESCRIPTION:
URL:https://firstbaptistbermuda.com/event/52-kitchen-meals-service-2025-06-11/
CATEGORIES:Weekly
END:VEVENT
BEGIN:VEVENT
DTSTART;TZID=Atlantic/Bermuda:20250615T183000
DTEND;TZID=Atlantic/Bermuda:20250615T190000
DTSTAMP:20260424T112831
CREATED:20250518T181829Z
LAST-MODIFIED:20250518T181829Z
UID:6853-1750012200-1750014000@firstbaptistbermuda.com
SUMMARY:Prayer Meeting
DESCRIPTION:
URL:https://firstbaptistbermuda.com/event/prayer-meeting-2025-06-15/
CATEGORIES:Weekly
END:VEVENT
BEGIN:VEVENT
DTSTART;TZID=Atlantic/Bermuda:20250617T093000
DTEND;TZID=Atlantic/Bermuda:20250617T110000
DTSTAMP:20260424T112831
CREATED:20250518T183604Z
LAST-MODIFIED:20250604T143704Z
UID:6865-1750152600-1750158000@firstbaptistbermuda.com
SUMMARY:Women's Bible Study
DESCRIPTION:Contact the church office to confirm title of study and length
URL:https://firstbaptistbermuda.com/event/womens-bible-study-2025-06-17/
END:VEVENT
BEGIN:VEVENT
DTSTART;TZID=Atlantic/Bermuda:20250617T190000
DTEND;TZID=Atlantic/Bermuda:20250617T203000
DTSTAMP:20260424T112831
CREATED:20250518T183604Z
LAST-MODIFIED:20250604T143704Z
UID:6866-1750186800-1750192200@firstbaptistbermuda.com
SUMMARY:Women's Bible Study
DESCRIPTION:Contact the church office to confirm title of study and length
URL:https://firstbaptistbermuda.com/event/womens-bible-study-2025-06-17-2/
END:VEVENT
BEGIN:VEVENT
DTSTART;TZID=Atlantic/Bermuda:20250617T190000
DTEND;TZID=Atlantic/Bermuda:20250617T203000
DTSTAMP:20260424T112831
CREATED:20250518T183750Z
LAST-MODIFIED:20250518T183750Z
UID:6887-1750186800-1750192200@firstbaptistbermuda.com
SUMMARY:Men's Bible Studiy
DESCRIPTION:Contact the church office to confirm title of study and length
URL:https://firstbaptistbermuda.com/event/mens-bible-studiy-2025-06-17/
END:VEVENT
BEGIN:VEVENT
DTSTART;TZID=Atlantic/Bermuda:20250618T140000
DTEND;TZID=Atlantic/Bermuda:20250618T160000
DTSTAMP:20260424T112831
CREATED:20250518T184100Z
LAST-MODIFIED:20250530T130214Z
UID:6897-1750255200-1750262400@firstbaptistbermuda.com
SUMMARY:5:2 Outreach Meal
DESCRIPTION:
URL:https://firstbaptistbermuda.com/event/52-kitchen-meals-service-2025-06-18/
CATEGORIES:Weekly
END:VEVENT
BEGIN:VEVENT
DTSTART;TZID=Atlantic/Bermuda:20250622T183000
DTEND;TZID=Atlantic/Bermuda:20250622T190000
DTSTAMP:20260424T112831
CREATED:20250518T181829Z
LAST-MODIFIED:20250518T181829Z
UID:6854-1750617000-1750618800@firstbaptistbermuda.com
SUMMARY:Prayer Meeting
DESCRIPTION:
URL:https://firstbaptistbermuda.com/event/prayer-meeting-2025-06-22/
CATEGORIES:Weekly
END:VEVENT
BEGIN:VEVENT
DTSTART;TZID=Atlantic/Bermuda:20250624T093000
DTEND;TZID=Atlantic/Bermuda:20250624T110000
DTSTAMP:20260424T112831
CREATED:20250518T183604Z
LAST-MODIFIED:20250604T143704Z
UID:6867-1750757400-1750762800@firstbaptistbermuda.com
SUMMARY:Women's Bible Study
DESCRIPTION:Contact the church office to confirm title of study and length
URL:https://firstbaptistbermuda.com/event/womens-bible-study-2025-06-24/
END:VEVENT
BEGIN:VEVENT
DTSTART;TZID=Atlantic/Bermuda:20250624T190000
DTEND;TZID=Atlantic/Bermuda:20250624T203000
DTSTAMP:20260424T112831
CREATED:20250518T183604Z
LAST-MODIFIED:20250604T143704Z
UID:6868-1750791600-1750797000@firstbaptistbermuda.com
SUMMARY:Women's Bible Study
DESCRIPTION:Contact the church office to confirm title of study and length
URL:https://firstbaptistbermuda.com/event/womens-bible-study-2025-06-24-2/
END:VEVENT
BEGIN:VEVENT
DTSTART;TZID=Atlantic/Bermuda:20250624T190000
DTEND;TZID=Atlantic/Bermuda:20250624T203000
DTSTAMP:20260424T112831
CREATED:20250518T183750Z
LAST-MODIFIED:20250518T183750Z
UID:6888-1750791600-1750797000@firstbaptistbermuda.com
SUMMARY:Men's Bible Studiy
DESCRIPTION:Contact the church office to confirm title of study and length
URL:https://firstbaptistbermuda.com/event/mens-bible-studiy-2025-06-24/
END:VEVENT
BEGIN:VEVENT
DTSTART;TZID=Atlantic/Bermuda:20250625T140000
DTEND;TZID=Atlantic/Bermuda:20250625T160000
DTSTAMP:20260424T112831
CREATED:20250518T184100Z
LAST-MODIFIED:20250530T130129Z
UID:6898-1750860000-1750867200@firstbaptistbermuda.com
SUMMARY:5:2 Outreach Meal
DESCRIPTION:
URL:https://firstbaptistbermuda.com/event/52-kitchen-meals-service-2025-06-25/
CATEGORIES:Weekly
END:VEVENT
BEGIN:VEVENT
DTSTART;TZID=Atlantic/Bermuda:20250629T183000
DTEND;TZID=Atlantic/Bermuda:20250629T190000
DTSTAMP:20260424T112831
CREATED:20250518T181829Z
LAST-MODIFIED:20250518T181829Z
UID:6855-1751221800-1751223600@firstbaptistbermuda.com
SUMMARY:Prayer Meeting
DESCRIPTION:
URL:https://firstbaptistbermuda.com/event/prayer-meeting-2025-06-29/
CATEGORIES:Weekly
END:VEVENT
BEGIN:VEVENT
DTSTART;TZID=Atlantic/Bermuda:20250701T093000
DTEND;TZID=Atlantic/Bermuda:20250701T110000
DTSTAMP:20260424T112831
CREATED:20250518T183604Z
LAST-MODIFIED:20250604T143706Z
UID:6869-1751362200-1751367600@firstbaptistbermuda.com
SUMMARY:Women's Bible Study
DESCRIPTION:Contact the church office to confirm title of study and length
URL:https://firstbaptistbermuda.com/event/womens-bible-study-2025-07-01/
END:VEVENT
BEGIN:VEVENT
DTSTART;TZID=Atlantic/Bermuda:20250701T190000
DTEND;TZID=Atlantic/Bermuda:20250701T203000
DTSTAMP:20260424T112831
CREATED:20250518T183604Z
LAST-MODIFIED:20250604T143706Z
UID:6870-1751396400-1751401800@firstbaptistbermuda.com
SUMMARY:Women's Bible Study
DESCRIPTION:Contact the church office to confirm title of study and length
URL:https://firstbaptistbermuda.com/event/womens-bible-study-2025-07-01-2/
END:VEVENT
BEGIN:VEVENT
DTSTART;TZID=Atlantic/Bermuda:20250701T190000
DTEND;TZID=Atlantic/Bermuda:20250701T203000
DTSTAMP:20260424T112831
CREATED:20250518T183750Z
LAST-MODIFIED:20250518T183750Z
UID:6889-1751396400-1751401800@firstbaptistbermuda.com
SUMMARY:Men's Bible Studiy
DESCRIPTION:Contact the church office to confirm title of study and length
URL:https://firstbaptistbermuda.com/event/mens-bible-studiy-2025-07-01/
END:VEVENT
BEGIN:VEVENT
DTSTART;TZID=Atlantic/Bermuda:20250702T140000
DTEND;TZID=Atlantic/Bermuda:20250702T160000
DTSTAMP:20260424T112831
CREATED:20250530T133203Z
LAST-MODIFIED:20250530T133205Z
UID:7006-1751464800-1751472000@firstbaptistbermuda.com
SUMMARY:5:2 Outreach Meal
DESCRIPTION:
URL:https://firstbaptistbermuda.com/event/52-outreach-meal/
CATEGORIES:Weekly
END:VEVENT
BEGIN:VEVENT
DTSTART;TZID=Atlantic/Bermuda:20250706T183000
DTEND;TZID=Atlantic/Bermuda:20250706T190000
DTSTAMP:20260424T112831
CREATED:20250518T181829Z
LAST-MODIFIED:20250518T181829Z
UID:6856-1751826600-1751828400@firstbaptistbermuda.com
SUMMARY:Prayer Meeting
DESCRIPTION:
URL:https://firstbaptistbermuda.com/event/prayer-meeting-2025-07-06/
CATEGORIES:Weekly
END:VEVENT
BEGIN:VEVENT
DTSTART;TZID=Atlantic/Bermuda:20250709T140000
DTEND;TZID=Atlantic/Bermuda:20250709T160000
DTSTAMP:20260424T112831
CREATED:20250518T184100Z
LAST-MODIFIED:20250530T133049Z
UID:6899-1752069600-1752076800@firstbaptistbermuda.com
SUMMARY:5:2 Outreach Meal
DESCRIPTION:
URL:https://firstbaptistbermuda.com/event/52-kitchen-meals-service-2025-07-02/
CATEGORIES:Weekly
END:VEVENT
BEGIN:VEVENT
DTSTART;TZID=Atlantic/Bermuda:20250713T180000
DTEND;TZID=Atlantic/Bermuda:20250718T203000
DTSTAMP:20260424T112831
CREATED:20250518T184837Z
LAST-MODIFIED:20250528T193746Z
UID:6923-1752429600-1752870600@firstbaptistbermuda.com
SUMMARY:Vacation Bible School
DESCRIPTION:
URL:https://firstbaptistbermuda.com/event/vacation-bible-school/
CATEGORIES:Summer
END:VEVENT
BEGIN:VEVENT
DTSTART;TZID=Atlantic/Bermuda:20250716T140000
DTEND;TZID=Atlantic/Bermuda:20250716T160000
DTSTAMP:20260424T112831
CREATED:20250518T184100Z
LAST-MODIFIED:20250518T184100Z
UID:7010-1752674400-1752681600@firstbaptistbermuda.com
SUMMARY:5:2 Outreach Meal
DESCRIPTION:
URL:https://firstbaptistbermuda.com/event/52-kitchen-meals-service-2025-07-16/
CATEGORIES:Weekly
END:VEVENT
BEGIN:VEVENT
DTSTART;TZID=Atlantic/Bermuda:20250723T140000
DTEND;TZID=Atlantic/Bermuda:20250723T160000
DTSTAMP:20260424T112831
CREATED:20250518T184100Z
LAST-MODIFIED:20250518T184100Z
UID:7011-1753279200-1753286400@firstbaptistbermuda.com
SUMMARY:5:2 Outreach Meal
DESCRIPTION:
URL:https://firstbaptistbermuda.com/event/52-kitchen-meals-service-2025-07-23/
CATEGORIES:Weekly
END:VEVENT
BEGIN:VEVENT
DTSTART;TZID=Atlantic/Bermuda:20250730T140000
DTEND;TZID=Atlantic/Bermuda:20250730T160000
DTSTAMP:20260424T112831
CREATED:20250518T184100Z
LAST-MODIFIED:20250518T184100Z
UID:7012-1753884000-1753891200@firstbaptistbermuda.com
SUMMARY:5:2 Outreach Meal
DESCRIPTION:
URL:https://firstbaptistbermuda.com/event/52-kitchen-meals-service-2025-07-30/
CATEGORIES:Weekly
END:VEVENT
BEGIN:VEVENT
DTSTART;TZID=Atlantic/Bermuda:20250806T140000
DTEND;TZID=Atlantic/Bermuda:20250806T160000
DTSTAMP:20260424T112831
CREATED:20250518T184100Z
LAST-MODIFIED:20250518T184100Z
UID:7013-1754488800-1754496000@firstbaptistbermuda.com
SUMMARY:5:2 Outreach Meal
DESCRIPTION:
URL:https://firstbaptistbermuda.com/event/52-kitchen-meals-service-2025-08-06/
CATEGORIES:Weekly
END:VEVENT
BEGIN:VEVENT
DTSTART;TZID=Atlantic/Bermuda:20250813T140000
DTEND;TZID=Atlantic/Bermuda:20250813T160000
DTSTAMP:20260424T112831
CREATED:20250518T184100Z
LAST-MODIFIED:20250518T184100Z
UID:7014-1755093600-1755100800@firstbaptistbermuda.com
SUMMARY:5:2 Outreach Meal
DESCRIPTION:
URL:https://firstbaptistbermuda.com/event/52-kitchen-meals-service-2025-08-13/
CATEGORIES:Weekly
END:VEVENT
END:VCALENDAR