BEGIN:VCALENDAR
VERSION:2.0
PRODID:-//First Baptist Church of Bermuda - ECPv6.15.20//NONSGML v1.0//EN
CALSCALE:GREGORIAN
METHOD:PUBLISH
X-WR-CALNAME:First Baptist Church of Bermuda
X-ORIGINAL-URL:https://firstbaptistbermuda.com
X-WR-CALDESC:Events for First Baptist Church of Bermuda
REFRESH-INTERVAL;VALUE=DURATION:PT1H
X-Robots-Tag:noindex
X-PUBLISHED-TTL:PT1H
BEGIN:VTIMEZONE
TZID:Atlantic/Bermuda
BEGIN:DAYLIGHT
TZOFFSETFROM:-0400
TZOFFSETTO:-0300
TZNAME:ADT
DTSTART:20240310T060000
END:DAYLIGHT
BEGIN:STANDARD
TZOFFSETFROM:-0300
TZOFFSETTO:-0400
TZNAME:AST
DTSTART:20241103T050000
END:STANDARD
BEGIN:DAYLIGHT
TZOFFSETFROM:-0400
TZOFFSETTO:-0300
TZNAME:ADT
DTSTART:20250309T060000
END:DAYLIGHT
BEGIN:STANDARD
TZOFFSETFROM:-0300
TZOFFSETTO:-0400
TZNAME:AST
DTSTART:20251102T050000
END:STANDARD
BEGIN:DAYLIGHT
TZOFFSETFROM:-0400
TZOFFSETTO:-0300
TZNAME:ADT
DTSTART:20260308T060000
END:DAYLIGHT
BEGIN:STANDARD
TZOFFSETFROM:-0300
TZOFFSETTO:-0400
TZNAME:AST
DTSTART:20261101T050000
END:STANDARD
BEGIN:DAYLIGHT
TZOFFSETFROM:-0400
TZOFFSETTO:-0300
TZNAME:ADT
DTSTART:20270314T060000
END:DAYLIGHT
BEGIN:STANDARD
TZOFFSETFROM:-0300
TZOFFSETTO:-0400
TZNAME:AST
DTSTART:20271107T050000
END:STANDARD
END:VTIMEZONE
BEGIN:VEVENT
DTSTART;TZID=Atlantic/Bermuda:20260402T110000
DTEND;TZID=Atlantic/Bermuda:20260402T170000
DTSTAMP:20260423T211956
CREATED:20250518T185053Z
LAST-MODIFIED:20250518T185056Z
UID:6930-1775127600-1775149200@firstbaptistbermuda.com
SUMMARY:Maundy Thursday Service
DESCRIPTION:
URL:https://firstbaptistbermuda.com/event/maundy-thursday-service/
CATEGORIES:Spring
END:VEVENT
BEGIN:VEVENT
DTSTART;TZID=Atlantic/Bermuda:20260204T140000
DTEND;TZID=Atlantic/Bermuda:20260204T160000
DTSTAMP:20260423T211956
CREATED:20250518T184100Z
LAST-MODIFIED:20250518T184100Z
UID:7039-1770213600-1770220800@firstbaptistbermuda.com
SUMMARY:5:2 Outreach Meal
DESCRIPTION:
URL:https://firstbaptistbermuda.com/event/52-kitchen-meals-service-2026-02-04/
CATEGORIES:Weekly
END:VEVENT
BEGIN:VEVENT
DTSTART;TZID=Atlantic/Bermuda:20260128T140000
DTEND;TZID=Atlantic/Bermuda:20260128T160000
DTSTAMP:20260423T211956
CREATED:20250518T184100Z
LAST-MODIFIED:20250518T184100Z
UID:7038-1769608800-1769616000@firstbaptistbermuda.com
SUMMARY:5:2 Outreach Meal
DESCRIPTION:
URL:https://firstbaptistbermuda.com/event/52-kitchen-meals-service-2026-01-28/
CATEGORIES:Weekly
END:VEVENT
BEGIN:VEVENT
DTSTART;TZID=Atlantic/Bermuda:20260121T140000
DTEND;TZID=Atlantic/Bermuda:20260121T160000
DTSTAMP:20260423T211956
CREATED:20250518T184100Z
LAST-MODIFIED:20250518T184100Z
UID:7037-1769004000-1769011200@firstbaptistbermuda.com
SUMMARY:5:2 Outreach Meal
DESCRIPTION:
URL:https://firstbaptistbermuda.com/event/52-kitchen-meals-service-2026-01-21/
CATEGORIES:Weekly
END:VEVENT
BEGIN:VEVENT
DTSTART;TZID=Atlantic/Bermuda:20260114T140000
DTEND;TZID=Atlantic/Bermuda:20260114T160000
DTSTAMP:20260423T211956
CREATED:20250518T184100Z
LAST-MODIFIED:20250518T184100Z
UID:7036-1768399200-1768406400@firstbaptistbermuda.com
SUMMARY:5:2 Outreach Meal
DESCRIPTION:
URL:https://firstbaptistbermuda.com/event/52-kitchen-meals-service-2026-01-14/
CATEGORIES:Weekly
END:VEVENT
BEGIN:VEVENT
DTSTART;TZID=Atlantic/Bermuda:20260107T140000
DTEND;TZID=Atlantic/Bermuda:20260107T160000
DTSTAMP:20260423T211956
CREATED:20250518T184100Z
LAST-MODIFIED:20250518T184100Z
UID:7035-1767794400-1767801600@firstbaptistbermuda.com
SUMMARY:5:2 Outreach Meal
DESCRIPTION:
URL:https://firstbaptistbermuda.com/event/52-kitchen-meals-service-2026-01-07/
CATEGORIES:Weekly
END:VEVENT
BEGIN:VEVENT
DTSTART;TZID=Atlantic/Bermuda:20251231T140000
DTEND;TZID=Atlantic/Bermuda:20251231T160000
DTSTAMP:20260423T211956
CREATED:20250518T184100Z
LAST-MODIFIED:20250518T184100Z
UID:7034-1767189600-1767196800@firstbaptistbermuda.com
SUMMARY:5:2 Outreach Meal
DESCRIPTION:
URL:https://firstbaptistbermuda.com/event/52-kitchen-meals-service-2025-12-31/
CATEGORIES:Weekly
END:VEVENT
BEGIN:VEVENT
DTSTART;TZID=Atlantic/Bermuda:20251224T183000
DTEND;TZID=Atlantic/Bermuda:20251224T190000
DTSTAMP:20260423T211956
CREATED:20250518T185018Z
LAST-MODIFIED:20250518T185022Z
UID:6929-1766601000-1766602800@firstbaptistbermuda.com
SUMMARY:Christmas Eve Service
DESCRIPTION:
URL:https://firstbaptistbermuda.com/event/christmas-eve-service/
CATEGORIES:Winter
END:VEVENT
BEGIN:VEVENT
DTSTART;TZID=Atlantic/Bermuda:20251224T140000
DTEND;TZID=Atlantic/Bermuda:20251224T160000
DTSTAMP:20260423T211956
CREATED:20250518T184100Z
LAST-MODIFIED:20250518T184100Z
UID:7033-1766584800-1766592000@firstbaptistbermuda.com
SUMMARY:5:2 Outreach Meal
DESCRIPTION:
URL:https://firstbaptistbermuda.com/event/52-kitchen-meals-service-2025-12-24/
CATEGORIES:Weekly
END:VEVENT
BEGIN:VEVENT
DTSTART;TZID=Atlantic/Bermuda:20251217T140000
DTEND;TZID=Atlantic/Bermuda:20251217T160000
DTSTAMP:20260423T211956
CREATED:20250518T184100Z
LAST-MODIFIED:20250518T184100Z
UID:7032-1765980000-1765987200@firstbaptistbermuda.com
SUMMARY:5:2 Outreach Meal
DESCRIPTION:
URL:https://firstbaptistbermuda.com/event/52-kitchen-meals-service-2025-12-17/
CATEGORIES:Weekly
END:VEVENT
BEGIN:VEVENT
DTSTART;TZID=Atlantic/Bermuda:20251210T140000
DTEND;TZID=Atlantic/Bermuda:20251210T160000
DTSTAMP:20260423T211956
CREATED:20250518T184100Z
LAST-MODIFIED:20250518T184100Z
UID:7031-1765375200-1765382400@firstbaptistbermuda.com
SUMMARY:5:2 Outreach Meal
DESCRIPTION:
URL:https://firstbaptistbermuda.com/event/52-kitchen-meals-service-2025-12-10/
CATEGORIES:Weekly
END:VEVENT
BEGIN:VEVENT
DTSTART;TZID=Atlantic/Bermuda:20251203T140000
DTEND;TZID=Atlantic/Bermuda:20251203T160000
DTSTAMP:20260423T211956
CREATED:20250518T184100Z
LAST-MODIFIED:20250518T184100Z
UID:7030-1764770400-1764777600@firstbaptistbermuda.com
SUMMARY:5:2 Outreach Meal
DESCRIPTION:
URL:https://firstbaptistbermuda.com/event/52-kitchen-meals-service-2025-12-03/
CATEGORIES:Weekly
END:VEVENT
BEGIN:VEVENT
DTSTART;TZID=Atlantic/Bermuda:20251129T090000
DTEND;TZID=Atlantic/Bermuda:20251129T110000
DTSTAMP:20260423T211956
CREATED:20251105T203716Z
LAST-MODIFIED:20251105T203716Z
UID:7093-1764406800-1764414000@firstbaptistbermuda.com
SUMMARY:Women Walking Together
DESCRIPTION:
URL:https://firstbaptistbermuda.com/event/women-walking-together/
END:VEVENT
BEGIN:VEVENT
DTSTART;TZID=Atlantic/Bermuda:20251126T140000
DTEND;TZID=Atlantic/Bermuda:20251126T160000
DTSTAMP:20260423T211956
CREATED:20250518T184100Z
LAST-MODIFIED:20250518T184100Z
UID:7029-1764165600-1764172800@firstbaptistbermuda.com
SUMMARY:5:2 Outreach Meal
DESCRIPTION:
URL:https://firstbaptistbermuda.com/event/52-kitchen-meals-service-2025-11-26/
CATEGORIES:Weekly
END:VEVENT
BEGIN:VEVENT
DTSTART;TZID=Atlantic/Bermuda:20251119T140000
DTEND;TZID=Atlantic/Bermuda:20251119T160000
DTSTAMP:20260423T211956
CREATED:20250518T184100Z
LAST-MODIFIED:20250518T184100Z
UID:7028-1763560800-1763568000@firstbaptistbermuda.com
SUMMARY:5:2 Outreach Meal
DESCRIPTION:
URL:https://firstbaptistbermuda.com/event/52-kitchen-meals-service-2025-11-19/
CATEGORIES:Weekly
END:VEVENT
BEGIN:VEVENT
DTSTART;TZID=Atlantic/Bermuda:20251112T140000
DTEND;TZID=Atlantic/Bermuda:20251112T160000
DTSTAMP:20260423T211956
CREATED:20250518T184100Z
LAST-MODIFIED:20250518T184100Z
UID:7027-1762956000-1762963200@firstbaptistbermuda.com
SUMMARY:5:2 Outreach Meal
DESCRIPTION:
URL:https://firstbaptistbermuda.com/event/52-kitchen-meals-service-2025-11-12/
CATEGORIES:Weekly
END:VEVENT
BEGIN:VEVENT
DTSTART;TZID=Atlantic/Bermuda:20251105T140000
DTEND;TZID=Atlantic/Bermuda:20251105T160000
DTSTAMP:20260423T211956
CREATED:20250518T184100Z
LAST-MODIFIED:20250518T184100Z
UID:7026-1762351200-1762358400@firstbaptistbermuda.com
SUMMARY:5:2 Outreach Meal
DESCRIPTION:
URL:https://firstbaptistbermuda.com/event/52-kitchen-meals-service-2025-11-05/
CATEGORIES:Weekly
END:VEVENT
BEGIN:VEVENT
DTSTART;TZID=Atlantic/Bermuda:20251029T140000
DTEND;TZID=Atlantic/Bermuda:20251029T160000
DTSTAMP:20260423T211956
CREATED:20250518T184100Z
LAST-MODIFIED:20250518T184100Z
UID:7025-1761746400-1761753600@firstbaptistbermuda.com
SUMMARY:5:2 Outreach Meal
DESCRIPTION:
URL:https://firstbaptistbermuda.com/event/52-kitchen-meals-service-2025-10-29/
CATEGORIES:Weekly
END:VEVENT
BEGIN:VEVENT
DTSTART;TZID=Atlantic/Bermuda:20251022T140000
DTEND;TZID=Atlantic/Bermuda:20251022T160000
DTSTAMP:20260423T211956
CREATED:20250518T184100Z
LAST-MODIFIED:20250518T184100Z
UID:7024-1761141600-1761148800@firstbaptistbermuda.com
SUMMARY:5:2 Outreach Meal
DESCRIPTION:
URL:https://firstbaptistbermuda.com/event/52-kitchen-meals-service-2025-10-22/
CATEGORIES:Weekly
END:VEVENT
BEGIN:VEVENT
DTSTART;TZID=Atlantic/Bermuda:20251015T140000
DTEND;TZID=Atlantic/Bermuda:20251015T160000
DTSTAMP:20260423T211956
CREATED:20250518T184100Z
LAST-MODIFIED:20250518T184100Z
UID:7023-1760536800-1760544000@firstbaptistbermuda.com
SUMMARY:5:2 Outreach Meal
DESCRIPTION:
URL:https://firstbaptistbermuda.com/event/52-kitchen-meals-service-2025-10-15/
CATEGORIES:Weekly
END:VEVENT
BEGIN:VEVENT
DTSTART;TZID=Atlantic/Bermuda:20251008T140000
DTEND;TZID=Atlantic/Bermuda:20251008T160000
DTSTAMP:20260423T211956
CREATED:20250518T184100Z
LAST-MODIFIED:20250518T184100Z
UID:7022-1759932000-1759939200@firstbaptistbermuda.com
SUMMARY:5:2 Outreach Meal
DESCRIPTION:
URL:https://firstbaptistbermuda.com/event/52-kitchen-meals-service-2025-10-08/
CATEGORIES:Weekly
END:VEVENT
BEGIN:VEVENT
DTSTART;TZID=Atlantic/Bermuda:20251001T140000
DTEND;TZID=Atlantic/Bermuda:20251001T160000
DTSTAMP:20260423T211956
CREATED:20250518T184100Z
LAST-MODIFIED:20250518T184100Z
UID:7021-1759327200-1759334400@firstbaptistbermuda.com
SUMMARY:5:2 Outreach Meal
DESCRIPTION:
URL:https://firstbaptistbermuda.com/event/52-kitchen-meals-service-2025-10-01/
CATEGORIES:Weekly
END:VEVENT
BEGIN:VEVENT
DTSTART;TZID=Atlantic/Bermuda:20250924T140000
DTEND;TZID=Atlantic/Bermuda:20250924T160000
DTSTAMP:20260423T211956
CREATED:20250518T184100Z
LAST-MODIFIED:20250518T184100Z
UID:7020-1758722400-1758729600@firstbaptistbermuda.com
SUMMARY:5:2 Outreach Meal
DESCRIPTION:
URL:https://firstbaptistbermuda.com/event/52-kitchen-meals-service-2025-09-24/
CATEGORIES:Weekly
END:VEVENT
BEGIN:VEVENT
DTSTART;TZID=Atlantic/Bermuda:20250917T140000
DTEND;TZID=Atlantic/Bermuda:20250917T160000
DTSTAMP:20260423T211956
CREATED:20250518T184100Z
LAST-MODIFIED:20250518T184100Z
UID:7019-1758117600-1758124800@firstbaptistbermuda.com
SUMMARY:5:2 Outreach Meal
DESCRIPTION:
URL:https://firstbaptistbermuda.com/event/52-kitchen-meals-service-2025-09-17/
CATEGORIES:Weekly
END:VEVENT
BEGIN:VEVENT
DTSTART;TZID=Atlantic/Bermuda:20250910T140000
DTEND;TZID=Atlantic/Bermuda:20250910T160000
DTSTAMP:20260423T211956
CREATED:20250518T184100Z
LAST-MODIFIED:20250518T184100Z
UID:7018-1757512800-1757520000@firstbaptistbermuda.com
SUMMARY:5:2 Outreach Meal
DESCRIPTION:
URL:https://firstbaptistbermuda.com/event/52-kitchen-meals-service-2025-09-10/
CATEGORIES:Weekly
END:VEVENT
BEGIN:VEVENT
DTSTART;TZID=Atlantic/Bermuda:20250903T140000
DTEND;TZID=Atlantic/Bermuda:20250903T160000
DTSTAMP:20260423T211956
CREATED:20250518T184100Z
LAST-MODIFIED:20250518T184100Z
UID:7017-1756908000-1756915200@firstbaptistbermuda.com
SUMMARY:5:2 Outreach Meal
DESCRIPTION:
URL:https://firstbaptistbermuda.com/event/52-kitchen-meals-service-2025-09-03/
CATEGORIES:Weekly
END:VEVENT
BEGIN:VEVENT
DTSTART;TZID=Atlantic/Bermuda:20250827T140000
DTEND;TZID=Atlantic/Bermuda:20250827T160000
DTSTAMP:20260423T211956
CREATED:20250518T184100Z
LAST-MODIFIED:20250518T184100Z
UID:7016-1756303200-1756310400@firstbaptistbermuda.com
SUMMARY:5:2 Outreach Meal
DESCRIPTION:
URL:https://firstbaptistbermuda.com/event/52-kitchen-meals-service-2025-08-27/
CATEGORIES:Weekly
END:VEVENT
BEGIN:VEVENT
DTSTART;TZID=Atlantic/Bermuda:20250820T140000
DTEND;TZID=Atlantic/Bermuda:20250820T160000
DTSTAMP:20260423T211956
CREATED:20250518T184100Z
LAST-MODIFIED:20250518T184100Z
UID:7015-1755698400-1755705600@firstbaptistbermuda.com
SUMMARY:5:2 Outreach Meal
DESCRIPTION:
URL:https://firstbaptistbermuda.com/event/52-kitchen-meals-service-2025-08-20/
CATEGORIES:Weekly
END:VEVENT
BEGIN:VEVENT
DTSTART;TZID=Atlantic/Bermuda:20250813T140000
DTEND;TZID=Atlantic/Bermuda:20250813T160000
DTSTAMP:20260423T211956
CREATED:20250518T184100Z
LAST-MODIFIED:20250518T184100Z
UID:7014-1755093600-1755100800@firstbaptistbermuda.com
SUMMARY:5:2 Outreach Meal
DESCRIPTION:
URL:https://firstbaptistbermuda.com/event/52-kitchen-meals-service-2025-08-13/
CATEGORIES:Weekly
END:VEVENT
BEGIN:VEVENT
DTSTART;TZID=Atlantic/Bermuda:20250806T140000
DTEND;TZID=Atlantic/Bermuda:20250806T160000
DTSTAMP:20260423T211956
CREATED:20250518T184100Z
LAST-MODIFIED:20250518T184100Z
UID:7013-1754488800-1754496000@firstbaptistbermuda.com
SUMMARY:5:2 Outreach Meal
DESCRIPTION:
URL:https://firstbaptistbermuda.com/event/52-kitchen-meals-service-2025-08-06/
CATEGORIES:Weekly
END:VEVENT
END:VCALENDAR