BEGIN:VCALENDAR
VERSION:2.0
PRODID:-//First Baptist Church of Bermuda - ECPv6.15.20//NONSGML v1.0//EN
CALSCALE:GREGORIAN
METHOD:PUBLISH
X-WR-CALNAME:First Baptist Church of Bermuda
X-ORIGINAL-URL:https://firstbaptistbermuda.com
X-WR-CALDESC:Events for First Baptist Church of Bermuda
REFRESH-INTERVAL;VALUE=DURATION:PT1H
X-Robots-Tag:noindex
X-PUBLISHED-TTL:PT1H
BEGIN:VTIMEZONE
TZID:Atlantic/Bermuda
BEGIN:DAYLIGHT
TZOFFSETFROM:-0400
TZOFFSETTO:-0300
TZNAME:ADT
DTSTART:20240310T060000
END:DAYLIGHT
BEGIN:STANDARD
TZOFFSETFROM:-0300
TZOFFSETTO:-0400
TZNAME:AST
DTSTART:20241103T050000
END:STANDARD
BEGIN:DAYLIGHT
TZOFFSETFROM:-0400
TZOFFSETTO:-0300
TZNAME:ADT
DTSTART:20250309T060000
END:DAYLIGHT
BEGIN:STANDARD
TZOFFSETFROM:-0300
TZOFFSETTO:-0400
TZNAME:AST
DTSTART:20251102T050000
END:STANDARD
BEGIN:DAYLIGHT
TZOFFSETFROM:-0400
TZOFFSETTO:-0300
TZNAME:ADT
DTSTART:20260308T060000
END:DAYLIGHT
BEGIN:STANDARD
TZOFFSETFROM:-0300
TZOFFSETTO:-0400
TZNAME:AST
DTSTART:20261101T050000
END:STANDARD
END:VTIMEZONE
BEGIN:VEVENT
DTSTART;TZID=Atlantic/Bermuda:20250603T093000
DTEND;TZID=Atlantic/Bermuda:20250603T110000
DTSTAMP:20260424T093223
CREATED:20250518T183604Z
LAST-MODIFIED:20250604T143703Z
UID:6861-1748943000-1748948400@firstbaptistbermuda.com
SUMMARY:Women's Bible Study
DESCRIPTION:Contact the church office to confirm title of study and length
URL:https://firstbaptistbermuda.com/event/womens-bible-study-2025-06-03/
END:VEVENT
BEGIN:VEVENT
DTSTART;TZID=Atlantic/Bermuda:20250603T190000
DTEND;TZID=Atlantic/Bermuda:20250603T203000
DTSTAMP:20260424T093223
CREATED:20250518T183604Z
LAST-MODIFIED:20250604T143703Z
UID:6862-1748977200-1748982600@firstbaptistbermuda.com
SUMMARY:Women's Bible Study
DESCRIPTION:Contact the church office to confirm title of study and length
URL:https://firstbaptistbermuda.com/event/womens-bible-study-2025-06-03-2/
END:VEVENT
BEGIN:VEVENT
DTSTART;TZID=Atlantic/Bermuda:20250603T190000
DTEND;TZID=Atlantic/Bermuda:20250603T203000
DTSTAMP:20260424T093223
CREATED:20250518T183750Z
LAST-MODIFIED:20250518T183750Z
UID:6885-1748977200-1748982600@firstbaptistbermuda.com
SUMMARY:Men's Bible Studiy
DESCRIPTION:Contact the church office to confirm title of study and length
URL:https://firstbaptistbermuda.com/event/mens-bible-studiy-2025-06-03/
END:VEVENT
END:VCALENDAR